{
 "currentVersion": 11.3,
 "serviceDescription": "Subdivision/Jackson_Place_West_Part_1_jpg",
 "name": "Subdivision/Jackson_Place_West_Part_1_jpg",
 "description": "",
 "extent": {
  "xmin": 983611.9862549312,
  "ymin": 345537.48587204167,
  "xmax": 985785.5006372969,
  "ymax": 347237.9770567897,
  "spatialReference": {
   "wkid": 102694,
   "latestWkid": 2254
  }
 },
 "initialExtent": {
  "xmin": 983611.9862549312,
  "ymin": 345537.48587204167,
  "xmax": 985785.5006372969,
  "ymax": 347237.9770567897,
  "spatialReference": {
   "wkid": 102694,
   "latestWkid": 2254
  }
 },
 "fullExtent": {
  "xmin": 983611.9862549312,
  "ymin": 345537.48587204167,
  "xmax": 985785.5006372969,
  "ymax": 347237.9770567897,
  "spatialReference": {
   "wkid": 102694,
   "latestWkid": 2254
  }
 },
 "sortableFields": "",
 "bandCount": 1,
 "pixelType": "U8",
 "minValues": [
  0
 ],
 "maxValues": [
  255
 ],
 "meanValues": [
  226.68526229946
 ],
 "stdvValues": [
  75.995593231028
 ],
 "hasMultidimensions": false,
 "pixelSizeX": 0.987961082893519,
 "pixelSizeY": 1.0002889322047122,
 "meanPixelSize": 0.3030099083207871,
 "datasetFormat": "JFIF",
 "uncompressedSize": 3740000,
 "blockWidth": 2200,
 "blockHeight": 1,
 "compressionType": "JPEG",
 "bandNames": [
  "Band_1"
 ],
 "allowCopy": true,
 "allowAnalysis": true,
 "itemAccess": false,
 "inspectionCapabilities": "",
 "minPixelSize": 0,
 "maxPixelSize": 0,
 "copyrightText": "",
 "serviceDataType": "esriImageServiceDataTypeGeneric",
 "serviceSourceType": "esriImageServiceSourceTypeDataset",
 "objectIdField": "",
 "fields": [],
 "capabilities": "Image,Metadata,Mensuration",
 "defaultMosaicMethod": "Center",
 "allowedMosaicMethods": "",
 "sortField": "",
 "sortValue": null,
 "sortAscending": true,
 "mosaicOperator": "First",
 "defaultCompressionQuality": 75,
 "defaultResamplingMethod": "Bilinear",
 "maxImageHeight": 4100,
 "maxImageWidth": 15000,
 "allowRasterFunction": true,
 "rasterFunctionInfos": [
  {
   "name": "None",
   "description": "",
   "help": ""
  }
 ],
 "rasterTypeInfos": [
  {
   "name": "Raster Dataset",
   "description": "Supports all ArcGIS Raster Datasets",
   "help": ""
  }
 ],
 "mensurationCapabilities": "Basic",
 "hasHistograms": true,
 "hasColormap": false,
 "hasRasterAttributeTable": false,
 "minScale": 0,
 "maxScale": 0,
 "exportTilesAllowed": false,
 "supportsStatistics": false,
 "supportsAdvancedQueries": false,
 "editFieldsInfo": null,
 "ownershipBasedAccessControlForRasters": null,
 "allowComputeTiePoints": false,
 "useStandardizedQueries": true,
 "advancedQueryCapabilities": {
  "useStandardizedQueries": true,
  "supportsStatistics": false,
  "supportsOrderBy": false,
  "supportsDistinct": false,
  "supportsPagination": false
 },
 "spatialReference": {
  "wkid": 102694,
  "latestWkid": 2254
 }
}
