{
 "currentVersion": 11.3,
 "serviceDescription": "Subdivision/PARVIEW_ESTATES_PH_2___ASBUILT_jpg",
 "name": "Subdivision/PARVIEW_ESTATES_PH_2___ASBUILT_jpg",
 "description": "",
 "extent": {
  "xmin": 973859.6862807071,
  "ymin": 350423.8005870115,
  "xmax": 975807.5073190585,
  "ymax": 353306.96399525175,
  "spatialReference": {
   "wkid": 102694,
   "latestWkid": 2254
  }
 },
 "initialExtent": {
  "xmin": 973859.6862807071,
  "ymin": 350423.8005870115,
  "xmax": 975807.5073190585,
  "ymax": 353306.96399525175,
  "spatialReference": {
   "wkid": 102694,
   "latestWkid": 2254
  }
 },
 "fullExtent": {
  "xmin": 973859.6862807071,
  "ymin": 350423.8005870115,
  "xmax": 975807.5073190585,
  "ymax": 353306.96399525175,
  "spatialReference": {
   "wkid": 102694,
   "latestWkid": 2254
  }
 },
 "sortableFields": "",
 "bandCount": 3,
 "pixelType": "U8",
 "minValues": [
  0,
  0,
  0
 ],
 "maxValues": [
  255,
  255,
  255
 ],
 "meanValues": [
  237.15971241319,
  237.53383972802,
  237.56984236113
 ],
 "stdvValues": [
  59.762522013289,
  59.156937841068,
  59.050161767013
 ],
 "hasMultidimensions": false,
 "pixelSizeX": 0.4057960496565405,
 "pixelSizeY": 0.4004393622555896,
 "meanPixelSize": 0.12287052251645368,
 "datasetFormat": "JFIF",
 "uncompressedSize": 103680000,
 "blockWidth": 4800,
 "blockHeight": 1,
 "compressionType": "JPEG",
 "bandNames": [
  "Band_1",
  "Band_2",
  "Band_3"
 ],
 "allowCopy": true,
 "allowAnalysis": true,
 "itemAccess": false,
 "inspectionCapabilities": "",
 "minPixelSize": 0,
 "maxPixelSize": 0,
 "copyrightText": "",
 "serviceDataType": "esriImageServiceDataTypeRGB",
 "serviceSourceType": "esriImageServiceSourceTypeDataset",
 "objectIdField": "",
 "fields": [],
 "capabilities": "Image,Metadata,Mensuration",
 "defaultMosaicMethod": "Center",
 "allowedMosaicMethods": "",
 "sortField": "",
 "sortValue": null,
 "sortAscending": true,
 "mosaicOperator": "First",
 "defaultCompressionQuality": 75,
 "defaultResamplingMethod": "Bilinear",
 "maxImageHeight": 4100,
 "maxImageWidth": 15000,
 "allowRasterFunction": true,
 "rasterFunctionInfos": [
  {
   "name": "None",
   "description": "",
   "help": ""
  }
 ],
 "rasterTypeInfos": [
  {
   "name": "Raster Dataset",
   "description": "Supports all ArcGIS Raster Datasets",
   "help": ""
  }
 ],
 "mensurationCapabilities": "Basic",
 "hasHistograms": true,
 "hasColormap": false,
 "hasRasterAttributeTable": false,
 "minScale": 0,
 "maxScale": 0,
 "exportTilesAllowed": false,
 "supportsStatistics": false,
 "supportsAdvancedQueries": false,
 "editFieldsInfo": null,
 "ownershipBasedAccessControlForRasters": null,
 "allowComputeTiePoints": false,
 "useStandardizedQueries": true,
 "advancedQueryCapabilities": {
  "useStandardizedQueries": true,
  "supportsStatistics": false,
  "supportsOrderBy": false,
  "supportsDistinct": false,
  "supportsPagination": false
 },
 "spatialReference": {
  "wkid": 102694,
  "latestWkid": 2254
 }
}
