{
 "currentVersion": 11.3,
 "serviceDescription": "Subdivision/Savannah_Trails_Ph_2A_Preliminary_jpg",
 "name": "Subdivision/Savannah_Trails_Ph_2A_Preliminary_jpg",
 "description": "",
 "extent": {
  "xmin": 990080.3307051054,
  "ymin": 341990.54832888494,
  "xmax": 992295.3471228258,
  "ymax": 343684.3312804168,
  "spatialReference": {
   "wkid": 102694,
   "latestWkid": 2254
  }
 },
 "initialExtent": {
  "xmin": 990080.3307051054,
  "ymin": 341990.54832888494,
  "xmax": 992295.3471228258,
  "ymax": 343684.3312804168,
  "spatialReference": {
   "wkid": 102694,
   "latestWkid": 2254
  }
 },
 "fullExtent": {
  "xmin": 990080.3307051054,
  "ymin": 341990.54832888494,
  "xmax": 992295.3471228258,
  "ymax": 343684.3312804168,
  "spatialReference": {
   "wkid": 102694,
   "latestWkid": 2254
  }
 },
 "sortableFields": "",
 "bandCount": 3,
 "pixelType": "U8",
 "minValues": [
  0,
  0,
  0
 ],
 "maxValues": [
  255,
  255,
  255
 ],
 "meanValues": [
  239.32420294118,
  239.20426844919,
  239.24680026738
 ],
 "stdvValues": [
  54.308584445159,
  54.667500558601,
  54.55047594837
 ],
 "hasMultidimensions": false,
 "pixelSizeX": 1.0068256444183432,
 "pixelSizeY": 0.996342912665808,
 "meanPixelSize": 0.305283498666622,
 "datasetFormat": "JFIF",
 "uncompressedSize": 11220000,
 "blockWidth": 2200,
 "blockHeight": 1,
 "compressionType": "JPEG",
 "bandNames": [
  "Band_1",
  "Band_2",
  "Band_3"
 ],
 "allowCopy": true,
 "allowAnalysis": true,
 "itemAccess": false,
 "inspectionCapabilities": "",
 "minPixelSize": 0,
 "maxPixelSize": 0,
 "copyrightText": "",
 "serviceDataType": "esriImageServiceDataTypeRGB",
 "serviceSourceType": "esriImageServiceSourceTypeDataset",
 "objectIdField": "",
 "fields": [],
 "capabilities": "Image,Metadata,Mensuration",
 "defaultMosaicMethod": "Center",
 "allowedMosaicMethods": "",
 "sortField": "",
 "sortValue": null,
 "sortAscending": true,
 "mosaicOperator": "First",
 "defaultCompressionQuality": 75,
 "defaultResamplingMethod": "Bilinear",
 "maxImageHeight": 4100,
 "maxImageWidth": 15000,
 "allowRasterFunction": true,
 "rasterFunctionInfos": [
  {
   "name": "None",
   "description": "",
   "help": ""
  }
 ],
 "rasterTypeInfos": [
  {
   "name": "Raster Dataset",
   "description": "Supports all ArcGIS Raster Datasets",
   "help": ""
  }
 ],
 "mensurationCapabilities": "Basic",
 "hasHistograms": true,
 "hasColormap": false,
 "hasRasterAttributeTable": false,
 "minScale": 0,
 "maxScale": 0,
 "exportTilesAllowed": false,
 "supportsStatistics": false,
 "supportsAdvancedQueries": false,
 "editFieldsInfo": null,
 "ownershipBasedAccessControlForRasters": null,
 "allowComputeTiePoints": false,
 "useStandardizedQueries": true,
 "advancedQueryCapabilities": {
  "useStandardizedQueries": true,
  "supportsStatistics": false,
  "supportsOrderBy": false,
  "supportsDistinct": false,
  "supportsPagination": false
 },
 "spatialReference": {
  "wkid": 102694,
  "latestWkid": 2254
 }
}
