{
 "currentVersion": 11.3,
 "serviceDescription": "Subdivision/Savannah_Trails_jpg",
 "name": "Subdivision/Savannah_Trails_jpg",
 "description": "",
 "extent": {
  "xmin": 986907.6276639464,
  "ymin": 341185.51756673254,
  "xmax": 990465.55722643,
  "ymax": 343588.51548299537,
  "spatialReference": {
   "wkid": 102694,
   "latestWkid": 2254
  }
 },
 "initialExtent": {
  "xmin": 986907.6276639464,
  "ymin": 341185.51756673254,
  "xmax": 990465.55722643,
  "ymax": 343588.51548299537,
  "spatialReference": {
   "wkid": 102694,
   "latestWkid": 2254
  }
 },
 "fullExtent": {
  "xmin": 986907.6276639464,
  "ymin": 341185.51756673254,
  "xmax": 990465.55722643,
  "ymax": 343588.51548299537,
  "spatialReference": {
   "wkid": 102694,
   "latestWkid": 2254
  }
 },
 "sortableFields": "",
 "bandCount": 3,
 "pixelType": "U8",
 "minValues": [
  0,
  0,
  0
 ],
 "maxValues": [
  255,
  255,
  255
 ],
 "meanValues": [
  237.12003208915,
  236.9609981771,
  237.011704022
 ],
 "stdvValues": [
  59.030421390819,
  59.47375250593,
  59.349833618607
 ],
 "hasMultidimensions": false,
 "pixelSizeX": 0.4941568836782891,
 "pixelSizeY": 0.5006245658880896,
 "meanPixelSize": 0.15160499612390838,
 "datasetFormat": "JFIF",
 "uncompressedSize": 103658400,
 "blockWidth": 7200,
 "blockHeight": 1,
 "compressionType": "JPEG",
 "bandNames": [
  "Band_1",
  "Band_2",
  "Band_3"
 ],
 "allowCopy": true,
 "allowAnalysis": true,
 "itemAccess": false,
 "inspectionCapabilities": "",
 "minPixelSize": 0,
 "maxPixelSize": 0,
 "copyrightText": "",
 "serviceDataType": "esriImageServiceDataTypeRGB",
 "serviceSourceType": "esriImageServiceSourceTypeDataset",
 "objectIdField": "",
 "fields": [],
 "capabilities": "Image,Metadata,Mensuration",
 "defaultMosaicMethod": "Center",
 "allowedMosaicMethods": "",
 "sortField": "",
 "sortValue": null,
 "sortAscending": true,
 "mosaicOperator": "First",
 "defaultCompressionQuality": 75,
 "defaultResamplingMethod": "Bilinear",
 "maxImageHeight": 4100,
 "maxImageWidth": 15000,
 "allowRasterFunction": true,
 "rasterFunctionInfos": [
  {
   "name": "None",
   "description": "",
   "help": ""
  }
 ],
 "rasterTypeInfos": [
  {
   "name": "Raster Dataset",
   "description": "Supports all ArcGIS Raster Datasets",
   "help": ""
  }
 ],
 "mensurationCapabilities": "Basic",
 "hasHistograms": true,
 "hasColormap": false,
 "hasRasterAttributeTable": false,
 "minScale": 0,
 "maxScale": 0,
 "exportTilesAllowed": false,
 "supportsStatistics": false,
 "supportsAdvancedQueries": false,
 "editFieldsInfo": null,
 "ownershipBasedAccessControlForRasters": null,
 "allowComputeTiePoints": false,
 "useStandardizedQueries": true,
 "advancedQueryCapabilities": {
  "useStandardizedQueries": true,
  "supportsStatistics": false,
  "supportsOrderBy": false,
  "supportsDistinct": false,
  "supportsPagination": false
 },
 "spatialReference": {
  "wkid": 102694,
  "latestWkid": 2254
 }
}
