{
 "currentVersion": 11.3,
 "serviceDescription": "Subdivision/alexis_crossing_jpg",
 "name": "Subdivision/alexis_crossing_jpg",
 "description": "",
 "extent": {
  "xmin": 992088.6616377819,
  "ymin": 342551.73434773204,
  "xmax": 993924.1040800662,
  "ymax": 343857.9204723512,
  "spatialReference": {
   "wkid": 102694,
   "latestWkid": 2254
  }
 },
 "initialExtent": {
  "xmin": 992088.6616377819,
  "ymin": 342551.73434773204,
  "xmax": 993924.1040800662,
  "ymax": 343857.9204723512,
  "spatialReference": {
   "wkid": 102694,
   "latestWkid": 2254
  }
 },
 "fullExtent": {
  "xmin": 992088.6616377819,
  "ymin": 342551.73434773204,
  "xmax": 993924.1040800662,
  "ymax": 343857.9204723512,
  "spatialReference": {
   "wkid": 102694,
   "latestWkid": 2254
  }
 },
 "sortableFields": "",
 "bandCount": 3,
 "pixelType": "U8",
 "minValues": [
  0,
  0,
  0
 ],
 "maxValues": [
  255,
  255,
  255
 ],
 "meanValues": [
  238.48345642486,
  248.38694242215,
  238.37736174763
 ],
 "stdvValues": [
  38.703868123889,
  33.29977897641,
  38.824380552111
 ],
 "hasMultidimensions": false,
 "pixelSizeX": 0.3399597040719235,
 "pixelSizeY": 0.362527372916779,
 "meanPixelSize": 0.10705924465156758,
 "datasetFormat": "JFIF",
 "uncompressedSize": 58357791,
 "blockWidth": 5399,
 "blockHeight": 1,
 "compressionType": "JPEG",
 "bandNames": [
  "Band_1",
  "Band_2",
  "Band_3"
 ],
 "allowCopy": true,
 "allowAnalysis": true,
 "itemAccess": false,
 "inspectionCapabilities": "",
 "minPixelSize": 0,
 "maxPixelSize": 0,
 "copyrightText": "",
 "serviceDataType": "esriImageServiceDataTypeRGB",
 "serviceSourceType": "esriImageServiceSourceTypeDataset",
 "objectIdField": "",
 "fields": [],
 "capabilities": "Image,Metadata,Mensuration",
 "defaultMosaicMethod": "Center",
 "allowedMosaicMethods": "",
 "sortField": "",
 "sortValue": null,
 "sortAscending": true,
 "mosaicOperator": "First",
 "defaultCompressionQuality": 75,
 "defaultResamplingMethod": "Bilinear",
 "maxImageHeight": 4100,
 "maxImageWidth": 15000,
 "allowRasterFunction": true,
 "rasterFunctionInfos": [
  {
   "name": "None",
   "description": "",
   "help": ""
  }
 ],
 "rasterTypeInfos": [
  {
   "name": "Raster Dataset",
   "description": "Supports all ArcGIS Raster Datasets",
   "help": ""
  }
 ],
 "mensurationCapabilities": "Basic",
 "hasHistograms": true,
 "hasColormap": false,
 "hasRasterAttributeTable": false,
 "minScale": 0,
 "maxScale": 0,
 "exportTilesAllowed": false,
 "supportsStatistics": false,
 "supportsAdvancedQueries": false,
 "editFieldsInfo": null,
 "ownershipBasedAccessControlForRasters": null,
 "allowComputeTiePoints": false,
 "useStandardizedQueries": true,
 "advancedQueryCapabilities": {
  "useStandardizedQueries": true,
  "supportsStatistics": false,
  "supportsOrderBy": false,
  "supportsDistinct": false,
  "supportsPagination": false
 },
 "spatialReference": {
  "wkid": 102694,
  "latestWkid": 2254
 }
}
