View In:
ArcGIS JavaScript
ArcGIS Online Map Viewer
ArcGIS Earth
Service Description: Subdivision/2019_05_30_BAYOU_PINES_jpg
Name: Subdivision/2019_05_30_BAYOU_PINES_jpg
Description:
Single Fused Map Cache: false
Extent:
XMin: 978909.8881682762
YMin: 341468.11584431364
XMax: 979881.2272695773
YMax: 342197.29894536565
Spatial Reference: 102694
(2254)
LatestVCSWkid(0)
Initial Extent:
XMin: 978909.8881682762
YMin: 341468.11584431364
XMax: 979881.2272695773
YMax: 342197.29894536565
Spatial Reference: 102694
(2254)
LatestVCSWkid(0)
Full Extent:
XMin: 978909.8881682762
YMin: 341468.11584431364
XMax: 979881.2272695773
YMax: 342197.29894536565
Spatial Reference: 102694
(2254)
LatestVCSWkid(0)
Pixel Size X: 0.20236231277107436
Pixel Size Y: 0.20255086140333636
Band Count: 3
Pixel Type: U8
RasterFunction Infos: {"rasterFunctionInfos": [{
"name": "None",
"description": "",
"help": ""
}]}
Mensuration Capabilities: Basic
Inspection Capabilities:
Has Histograms: true
Has Colormap: false
Has Multi Dimensions : false
Rendering Rule:
Min Scale: 0
Max Scale: 0
Copyright Text:
Service Data Type: esriImageServiceDataTypeRGB
Min Values: 0, 0, 0
Max Values: 255, 255, 255
Mean Values: 237.67644450232, 237.66962297453, 237.64302071758
Standard Deviation Values: 59.870279470629, 59.876718539217, 59.918083937158
Object ID Field:
Fields:
None
Default Mosaic Method: Center
Allowed Mosaic Methods:
SortField:
SortValue: null
Mosaic Operator: First
Default Compression Quality: 75
Default Resampling Method: Bilinear
Max Record Count: null
Max Image Height: 4100
Max Image Width: 15000
Max Download Image Count: null
Max Mosaic Image Count: null
Allow Raster Function: true
Allow Copy: true
Allow Analysis: true
Allow Compute TiePoints: false
Supports Statistics: false
Supports Advanced Queries: false
Use StandardizedQueries: true
Raster Type Infos:
Name: Raster Dataset
Description: Supports all ArcGIS Raster Datasets
Help:
Has Raster Attribute Table: false
Edit Fields Info: null
Ownership Based AccessControl For Rasters: null
Child Resources:
Info
Histograms
Statistics
Key Properties
Legend
Raster Function Infos
Supported Operations:
Export Image
Identify
Measure
Compute Histograms
Compute Statistics Histograms
Get Samples
Compute Class Statistics
Query Boundary
Compute Pixel Location
Compute Angles
Validate
Project