View In:
ArcGIS JavaScript
ArcGIS Online Map Viewer
ArcGIS Earth
Service Description: Subdivision/2020_1130_GulfHillsWaterSewers_greens_jpg
Name: Subdivision/2020_1130_GulfHillsWaterSewers_greens_jpg
Description:
Single Fused Map Cache: false
Extent:
XMin: 982208.1273279017
YMin: 338202.570489879
XMax: 984120.585774623
YMax: 341175.287224355
Spatial Reference: 102694
(2254)
LatestVCSWkid(0)
Initial Extent:
XMin: 982208.1273279017
YMin: 338202.570489879
XMax: 984120.585774623
YMax: 341175.287224355
Spatial Reference: 102694
(2254)
LatestVCSWkid(0)
Full Extent:
XMin: 982208.1273279017
YMin: 338202.570489879
XMax: 984120.585774623
YMax: 341175.287224355
Spatial Reference: 102694
(2254)
LatestVCSWkid(0)
Pixel Size X: 0.3984288430669403
Pixel Size Y: 0.412877324232775
Band Count: 3
Pixel Type: U8
RasterFunction Infos: {"rasterFunctionInfos": [{
"name": "None",
"description": "",
"help": ""
}]}
Mensuration Capabilities: Basic
Inspection Capabilities:
Has Histograms: true
Has Colormap: false
Has Multi Dimensions : false
Rendering Rule:
Min Scale: 0
Max Scale: 0
Copyright Text:
Service Data Type: esriImageServiceDataTypeRGB
Min Values: 0, 0, 0
Max Values: 255, 255, 255
Mean Values: 249.86227251154, 249.3960150753, 249.14901226854
Standard Deviation Values: 33.272240109412, 34.906499909523, 34.912799519833
Object ID Field:
Fields:
None
Default Mosaic Method: Center
Allowed Mosaic Methods:
SortField:
SortValue: null
Mosaic Operator: First
Default Compression Quality: 75
Default Resampling Method: Bilinear
Max Record Count: null
Max Image Height: 4100
Max Image Width: 15000
Max Download Image Count: null
Max Mosaic Image Count: null
Allow Raster Function: true
Allow Copy: true
Allow Analysis: true
Allow Compute TiePoints: false
Supports Statistics: false
Supports Advanced Queries: false
Use StandardizedQueries: true
Raster Type Infos:
Name: Raster Dataset
Description: Supports all ArcGIS Raster Datasets
Help:
Has Raster Attribute Table: false
Edit Fields Info: null
Ownership Based AccessControl For Rasters: null
Child Resources:
Info
Histograms
Statistics
Key Properties
Legend
Raster Function Infos
Supported Operations:
Export Image
Identify
Measure
Compute Histograms
Compute Statistics Histograms
Get Samples
Compute Class Statistics
Query Boundary
Compute Pixel Location
Compute Angles
Validate
Project