View In:
ArcGIS JavaScript
ArcGIS Online Map Viewer
ArcGIS Earth
Service Description: Subdivision/292_North_and_South_Eglin_jpg
Name: Subdivision/292_North_and_South_Eglin_jpg
Description:
Single Fused Map Cache: false
Extent:
XMin: 995733.809472874
YMin: 342819.6415952042
XMax: 1002977.7475660782
YMax: 347795.9462600476
Spatial Reference: 102694
(2254)
LatestVCSWkid(0)
Initial Extent:
XMin: 995733.809472874
YMin: 342819.6415952042
XMax: 1002977.7475660782
YMax: 347795.9462600476
Spatial Reference: 102694
(2254)
LatestVCSWkid(0)
Full Extent:
XMin: 995733.809472874
YMin: 342819.6415952042
XMax: 1002977.7475660782
YMax: 347795.9462600476
Spatial Reference: 102694
(2254)
LatestVCSWkid(0)
Pixel Size X: 0.6707350086300156
Pixel Size Y: 0.6911534256726979
Band Count: 3
Pixel Type: U8
RasterFunction Infos: {"rasterFunctionInfos": [{
"name": "None",
"description": "",
"help": ""
}]}
Mensuration Capabilities: Basic
Inspection Capabilities:
Has Histograms: true
Has Colormap: false
Has Multi Dimensions : false
Rendering Rule:
Min Scale: 0
Max Scale: 0
Copyright Text:
Service Data Type: esriImageServiceDataTypeRGB
Min Values: 0, 0, 0
Max Values: 255, 255, 255
Mean Values: 128.02380871914, 128.02380871914, 128.02380871914
Standard Deviation Values: 1.7387366161067, 1.7387366161067, 1.7387366161067
Object ID Field:
Fields:
None
Default Mosaic Method: Center
Allowed Mosaic Methods:
SortField:
SortValue: null
Mosaic Operator: First
Default Compression Quality: 75
Default Resampling Method: Bilinear
Max Record Count: null
Max Image Height: 4100
Max Image Width: 15000
Max Download Image Count: null
Max Mosaic Image Count: null
Allow Raster Function: true
Allow Copy: true
Allow Analysis: true
Allow Compute TiePoints: false
Supports Statistics: false
Supports Advanced Queries: false
Use StandardizedQueries: true
Raster Type Infos:
Name: Raster Dataset
Description: Supports all ArcGIS Raster Datasets
Help:
Has Raster Attribute Table: false
Edit Fields Info: null
Ownership Based AccessControl For Rasters: null
Child Resources:
Info
Histograms
Statistics
Key Properties
Legend
Raster Function Infos
Supported Operations:
Export Image
Identify
Measure
Compute Histograms
Compute Statistics Histograms
Get Samples
Compute Class Statistics
Query Boundary
Compute Pixel Location
Compute Angles
Validate
Project