View In:
ArcGIS JavaScript
ArcGIS Online Map Viewer
ArcGIS Earth
Service Description: Subdivision/731_Milsted_Layout___layout_phase1_and_2_jpg
Name: Subdivision/731_Milsted_Layout___layout_phase1_and_2_jpg
Description:
Single Fused Map Cache: false
Extent:
XMin: 981087.3007343458
YMin: 354726.89195171354
XMax: 984932.620546037
YMax: 357473.1628904166
Spatial Reference: 102694
(2254)
LatestVCSWkid(0)
Initial Extent:
XMin: 981087.3007343458
YMin: 354726.89195171354
XMax: 984932.620546037
YMax: 357473.1628904166
Spatial Reference: 102694
(2254)
LatestVCSWkid(0)
Full Extent:
XMin: 981087.3007343458
YMin: 354726.89195171354
XMax: 984932.620546037
YMax: 357473.1628904166
Spatial Reference: 102694
(2254)
LatestVCSWkid(0)
Pixel Size X: 0.7120962614242927
Pixel Size Y: 0.7628530385286366
Band Count: 3
Pixel Type: U8
RasterFunction Infos: {"rasterFunctionInfos": [{
"name": "None",
"description": "",
"help": ""
}]}
Mensuration Capabilities: Basic
Inspection Capabilities:
Has Histograms: true
Has Colormap: false
Has Multi Dimensions : false
Rendering Rule:
Min Scale: 0
Max Scale: 0
Copyright Text:
Service Data Type: esriImageServiceDataTypeRGB
Min Values: 0, 0, 0
Max Values: 255, 255, 255
Mean Values: 230.59157314815, 232.01880390946, 217.5221173868
Standard Deviation Values: 57.884598448458, 58.847759151615, 66.357294310518
Object ID Field:
Fields:
None
Default Mosaic Method: Center
Allowed Mosaic Methods:
SortField:
SortValue: null
Mosaic Operator: First
Default Compression Quality: 75
Default Resampling Method: Bilinear
Max Record Count: null
Max Image Height: 4100
Max Image Width: 15000
Max Download Image Count: null
Max Mosaic Image Count: null
Allow Raster Function: true
Allow Copy: true
Allow Analysis: true
Allow Compute TiePoints: false
Supports Statistics: false
Supports Advanced Queries: false
Use StandardizedQueries: true
Raster Type Infos:
Name: Raster Dataset
Description: Supports all ArcGIS Raster Datasets
Help:
Has Raster Attribute Table: false
Edit Fields Info: null
Ownership Based AccessControl For Rasters: null
Child Resources:
Info
Histograms
Statistics
Key Properties
Legend
Raster Function Infos
Supported Operations:
Export Image
Identify
Measure
Compute Histograms
Compute Statistics Histograms
Get Samples
Compute Class Statistics
Query Boundary
Compute Pixel Location
Compute Angles
Validate
Project