View In:
ArcGIS JavaScript
ArcGIS Online Map Viewer
ArcGIS Earth
Service Description: Subdivision/Acadian_Gardens_jpg
Name: Subdivision/Acadian_Gardens_jpg
Description:
Single Fused Map Cache: false
Extent:
XMin: 967943.224186159
YMin: 351956.84598804225
XMax: 969989.3962724508
YMax: 353390.01447114645
Spatial Reference: 102694
(2254)
LatestVCSWkid(0)
Initial Extent:
XMin: 967943.224186159
YMin: 351956.84598804225
XMax: 969989.3962724508
YMax: 353390.01447114645
Spatial Reference: 102694
(2254)
LatestVCSWkid(0)
Full Extent:
XMin: 967943.224186159
YMin: 351956.84598804225
XMax: 969989.3962724508
YMax: 353390.01447114645
Spatial Reference: 102694
(2254)
LatestVCSWkid(0)
Pixel Size X: 0.930078221041741
Pixel Size Y: 0.8430402841789456
Band Count: 3
Pixel Type: U8
RasterFunction Infos: {"rasterFunctionInfos": [{
"name": "None",
"description": "",
"help": ""
}]}
Mensuration Capabilities: Basic
Inspection Capabilities:
Has Histograms: true
Has Colormap: false
Has Multi Dimensions : false
Rendering Rule:
Min Scale: 0
Max Scale: 0
Copyright Text:
Service Data Type: esriImageServiceDataTypeRGB
Min Values: 0, 0, 0
Max Values: 255, 255, 255
Mean Values: 246.57515695186, 246.56730294121, 246.56186470587
Standard Deviation Values: 38.280162906131, 38.33313532369, 38.285819919788
Object ID Field:
Fields:
None
Default Mosaic Method: Center
Allowed Mosaic Methods:
SortField:
SortValue: null
Mosaic Operator: First
Default Compression Quality: 75
Default Resampling Method: Bilinear
Max Record Count: null
Max Image Height: 4100
Max Image Width: 15000
Max Download Image Count: null
Max Mosaic Image Count: null
Allow Raster Function: true
Allow Copy: true
Allow Analysis: true
Allow Compute TiePoints: false
Supports Statistics: false
Supports Advanced Queries: false
Use StandardizedQueries: true
Raster Type Infos:
Name: Raster Dataset
Description: Supports all ArcGIS Raster Datasets
Help:
Has Raster Attribute Table: false
Edit Fields Info: null
Ownership Based AccessControl For Rasters: null
Child Resources:
Info
Histograms
Statistics
Key Properties
Legend
Raster Function Infos
Supported Operations:
Export Image
Identify
Measure
Compute Histograms
Compute Statistics Histograms
Get Samples
Compute Class Statistics
Query Boundary
Compute Pixel Location
Compute Angles
Validate
Project