View In:
ArcGIS JavaScript
ArcGIS Online Map Viewer
ArcGIS Earth
Service Description: Subdivision/Back_Bay_RV_jpg
Name: Subdivision/Back_Bay_RV_jpg
Description:
Single Fused Map Cache: false
Extent:
XMin: 975098.9284251156
YMin: 338061.5172805637
XMax: 978885.5708297883
YMax: 340552.2174690962
Spatial Reference: 102694
(2254)
LatestVCSWkid(0)
Initial Extent:
XMin: 975098.9284251156
YMin: 338061.5172805637
XMax: 978885.5708297883
YMax: 340552.2174690962
Spatial Reference: 102694
(2254)
LatestVCSWkid(0)
Full Extent:
XMin: 975098.9284251156
YMin: 338061.5172805637
XMax: 978885.5708297883
YMax: 340552.2174690962
Spatial Reference: 102694
(2254)
LatestVCSWkid(0)
Pixel Size X: 0.742478902876998
Pixel Size Y: 0.7547576328886277
Band Count: 3
Pixel Type: U8
RasterFunction Infos: {"rasterFunctionInfos": [{
"name": "None",
"description": "",
"help": ""
}]}
Mensuration Capabilities: Basic
Inspection Capabilities:
Has Histograms: true
Has Colormap: false
Has Multi Dimensions : false
Rendering Rule:
Min Scale: 0
Max Scale: 0
Copyright Text:
Service Data Type: esriImageServiceDataTypeRGB
Min Values: 0, 0, 0
Max Values: 255, 255, 255
Mean Values: 243.94788437314, 244.23802899587, 243.10701467613
Standard Deviation Values: 40.451348109024, 39.318310260654, 42.287224162542
Object ID Field:
Fields:
None
Default Mosaic Method: Center
Allowed Mosaic Methods:
SortField:
SortValue: null
Mosaic Operator: First
Default Compression Quality: 75
Default Resampling Method: Bilinear
Max Record Count: null
Max Image Height: 4100
Max Image Width: 15000
Max Download Image Count: null
Max Mosaic Image Count: null
Allow Raster Function: true
Allow Copy: true
Allow Analysis: true
Allow Compute TiePoints: false
Supports Statistics: false
Supports Advanced Queries: false
Use StandardizedQueries: true
Raster Type Infos:
Name: Raster Dataset
Description: Supports all ArcGIS Raster Datasets
Help:
Has Raster Attribute Table: false
Edit Fields Info: null
Ownership Based AccessControl For Rasters: null
Child Resources:
Info
Histograms
Statistics
Key Properties
Legend
Raster Function Infos
Supported Operations:
Export Image
Identify
Measure
Compute Histograms
Compute Statistics Histograms
Get Samples
Compute Class Statistics
Query Boundary
Compute Pixel Location
Compute Angles
Validate
Project