View In:
ArcGIS JavaScript
ArcGIS Online Map Viewer
ArcGIS Earth
Service Description: Subdivision/Emersyn_Estates_jpg
Name: Subdivision/Emersyn_Estates_jpg
Description:
Single Fused Map Cache: false
Extent:
XMin: 970304.0596617387
YMin: 354625.15267021453
XMax: 971731.1989991997
YMax: 355610.2096483078
Spatial Reference: 102694
(2254)
LatestVCSWkid(0)
Initial Extent:
XMin: 970304.0596617387
YMin: 354625.15267021453
XMax: 971731.1989991997
YMax: 355610.2096483078
Spatial Reference: 102694
(2254)
LatestVCSWkid(0)
Full Extent:
XMin: 970304.0596617387
YMin: 354625.15267021453
XMax: 971731.1989991997
YMax: 355610.2096483078
Spatial Reference: 102694
(2254)
LatestVCSWkid(0)
Pixel Size X: 0.19821379686958002
Pixel Size Y: 0.2052202037694345
Band Count: 3
Pixel Type: U8
RasterFunction Infos: {"rasterFunctionInfos": [{
"name": "None",
"description": "",
"help": ""
}]}
Mensuration Capabilities: Basic
Inspection Capabilities:
Has Histograms: true
Has Colormap: false
Has Multi Dimensions : false
Rendering Rule:
Min Scale: 0
Max Scale: 0
Copyright Text:
Service Data Type: esriImageServiceDataTypeRGB
Min Values: 0, 0, 0
Max Values: 255, 255, 255
Mean Values: 244.97136166089, 244.9868192998, 245.01788943865
Standard Deviation Values: 47.309259609616, 47.25180078983, 47.151128526204
Object ID Field:
Fields:
None
Default Mosaic Method: Center
Allowed Mosaic Methods:
SortField:
SortValue: null
Mosaic Operator: First
Default Compression Quality: 75
Default Resampling Method: Bilinear
Max Record Count: null
Max Image Height: 4100
Max Image Width: 15000
Max Download Image Count: null
Max Mosaic Image Count: null
Allow Raster Function: true
Allow Copy: true
Allow Analysis: true
Allow Compute TiePoints: false
Supports Statistics: false
Supports Advanced Queries: false
Use StandardizedQueries: true
Raster Type Infos:
Name: Raster Dataset
Description: Supports all ArcGIS Raster Datasets
Help:
Has Raster Attribute Table: false
Edit Fields Info: null
Ownership Based AccessControl For Rasters: null
Child Resources:
Info
Histograms
Statistics
Key Properties
Legend
Raster Function Infos
Supported Operations:
Export Image
Identify
Measure
Compute Histograms
Compute Statistics Histograms
Get Samples
Compute Class Statistics
Query Boundary
Compute Pixel Location
Compute Angles
Validate
Project