View In:
ArcGIS JavaScript
ArcGIS Online Map Viewer
ArcGIS Earth
Service Description: Subdivision/Jackson_place_phase_1_jpg
Name: Subdivision/Jackson_place_phase_1_jpg
Description:
Single Fused Map Cache: false
Extent:
XMin: 985944.692780792
YMin: 345720.5167629923
XMax: 988134.036621723
YMax: 347398.0220870693
Spatial Reference: 102694
(2254)
LatestVCSWkid(0)
Initial Extent:
XMin: 985944.692780792
YMin: 345720.5167629923
XMax: 988134.036621723
YMax: 347398.0220870693
Spatial Reference: 102694
(2254)
LatestVCSWkid(0)
Full Extent:
XMin: 985944.692780792
YMin: 345720.5167629923
XMax: 988134.036621723
YMax: 347398.0220870693
Spatial Reference: 102694
(2254)
LatestVCSWkid(0)
Pixel Size X: 0.3317187637774182
Pixel Size Y: 0.32892261256411326
Band Count: 3
Pixel Type: U8
RasterFunction Infos: {"rasterFunctionInfos": [{
"name": "None",
"description": "",
"help": ""
}]}
Mensuration Capabilities: Basic
Inspection Capabilities:
Has Histograms: true
Has Colormap: false
Has Multi Dimensions : false
Rendering Rule:
Min Scale: 0
Max Scale: 0
Copyright Text:
Service Data Type: esriImageServiceDataTypeRGB
Min Values: 0, 0, 0
Max Values: 255, 255, 255
Mean Values: 235.58296330962, 235.5829412359, 235.58291856803
Standard Deviation Values: 64.532930833518, 64.532943258204, 64.532951456093
Object ID Field:
Fields:
None
Default Mosaic Method: Center
Allowed Mosaic Methods:
SortField:
SortValue: null
Mosaic Operator: First
Default Compression Quality: 75
Default Resampling Method: Bilinear
Max Record Count: null
Max Image Height: 4100
Max Image Width: 15000
Max Download Image Count: null
Max Mosaic Image Count: null
Allow Raster Function: true
Allow Copy: true
Allow Analysis: true
Allow Compute TiePoints: false
Supports Statistics: false
Supports Advanced Queries: false
Use StandardizedQueries: true
Raster Type Infos:
Name: Raster Dataset
Description: Supports all ArcGIS Raster Datasets
Help:
Has Raster Attribute Table: false
Edit Fields Info: null
Ownership Based AccessControl For Rasters: null
Child Resources:
Info
Histograms
Statistics
Key Properties
Legend
Raster Function Infos
Supported Operations:
Export Image
Identify
Measure
Compute Histograms
Compute Statistics Histograms
Get Samples
Compute Class Statistics
Query Boundary
Compute Pixel Location
Compute Angles
Validate
Project