View In:
ArcGIS JavaScript
ArcGIS Online Map Viewer
ArcGIS Earth
Service Description: Subdivision/Magnolia_Vista_jpg
Name: Subdivision/Magnolia_Vista_jpg
Description:
Single Fused Map Cache: false
Extent:
XMin: 969234.2287235154
YMin: 353017.6554827235
XMax: 972855.5642037382
YMax: 355419.2331716691
Spatial Reference: 102694
(2254)
LatestVCSWkid(0)
Initial Extent:
XMin: 969234.2287235154
YMin: 353017.6554827235
XMax: 972855.5642037382
YMax: 355419.2331716691
Spatial Reference: 102694
(2254)
LatestVCSWkid(0)
Full Extent:
XMin: 969234.2287235154
YMin: 353017.6554827235
XMax: 972855.5642037382
YMax: 355419.2331716691
Spatial Reference: 102694
(2254)
LatestVCSWkid(0)
Pixel Size X: 0.5029632611420594
Pixel Size Y: 0.5003286851970067
Band Count: 1
Pixel Type: U8
RasterFunction Infos: {"rasterFunctionInfos": [{
"name": "None",
"description": "",
"help": ""
}]}
Mensuration Capabilities: Basic
Inspection Capabilities:
Has Histograms: true
Has Colormap: false
Has Multi Dimensions : false
Rendering Rule:
Min Scale: 0
Max Scale: 0
Copyright Text:
Service Data Type: esriImageServiceDataTypeGeneric
Min Values: 0
Max Values: 255
Mean Values: 245.61101718751
Standard Deviation Values: 45.956746802091
Object ID Field:
Fields:
None
Default Mosaic Method: Center
Allowed Mosaic Methods:
SortField:
SortValue: null
Mosaic Operator: First
Default Compression Quality: 75
Default Resampling Method: Bilinear
Max Record Count: null
Max Image Height: 4100
Max Image Width: 15000
Max Download Image Count: null
Max Mosaic Image Count: null
Allow Raster Function: true
Allow Copy: true
Allow Analysis: true
Allow Compute TiePoints: false
Supports Statistics: false
Supports Advanced Queries: false
Use StandardizedQueries: true
Raster Type Infos:
Name: Raster Dataset
Description: Supports all ArcGIS Raster Datasets
Help:
Has Raster Attribute Table: false
Edit Fields Info: null
Ownership Based AccessControl For Rasters: null
Child Resources:
Info
Histograms
Statistics
Key Properties
Legend
Raster Function Infos
Supported Operations:
Export Image
Identify
Measure
Compute Histograms
Compute Statistics Histograms
Get Samples
Compute Class Statistics
Query Boundary
Compute Pixel Location
Compute Angles
Validate
Project