View In:
ArcGIS JavaScript
ArcGIS Online Map Viewer
ArcGIS Earth
Service Description: Subdivision/Scarlet_Glennpg10_10_12_2020_jpg
Name: Subdivision/Scarlet_Glennpg10_10_12_2020_jpg
Description:
Single Fused Map Cache: false
Extent:
XMin: 990484.8298511769
YMin: 344624.56302195764
XMax: 994133.8572807978
YMax: 347398.75551628834
Spatial Reference: 102694
(2254)
LatestVCSWkid(0)
Initial Extent:
XMin: 990484.8298511769
YMin: 344624.56302195764
XMax: 994133.8572807978
YMax: 347398.75551628834
Spatial Reference: 102694
(2254)
LatestVCSWkid(0)
Full Extent:
XMin: 990484.8298511769
YMin: 344624.56302195764
XMax: 994133.8572807978
YMax: 347398.75551628834
Spatial Reference: 102694
(2254)
LatestVCSWkid(0)
Pixel Size X: 1.6586488316458416
Pixel Size Y: 1.6318779378415853
Band Count: 3
Pixel Type: U8
RasterFunction Infos: {"rasterFunctionInfos": [{
"name": "None",
"description": "",
"help": ""
}]}
Mensuration Capabilities: Basic
Inspection Capabilities:
Has Histograms: true
Has Colormap: false
Has Multi Dimensions : false
Rendering Rule:
Min Scale: 0
Max Scale: 0
Copyright Text:
Service Data Type: esriImageServiceDataTypeRGB
Min Values: 0, 0, 0
Max Values: 255, 255, 255
Mean Values: 244.2974566845, 244.31991737968, 244.38412139036
Standard Deviation Values: 45.861973594829, 45.892240681491, 45.854379080639
Object ID Field:
Fields:
None
Default Mosaic Method: Center
Allowed Mosaic Methods:
SortField:
SortValue: null
Mosaic Operator: First
Default Compression Quality: 75
Default Resampling Method: Bilinear
Max Record Count: null
Max Image Height: 4100
Max Image Width: 15000
Max Download Image Count: null
Max Mosaic Image Count: null
Allow Raster Function: true
Allow Copy: true
Allow Analysis: true
Allow Compute TiePoints: false
Supports Statistics: false
Supports Advanced Queries: false
Use StandardizedQueries: true
Raster Type Infos:
Name: Raster Dataset
Description: Supports all ArcGIS Raster Datasets
Help:
Has Raster Attribute Table: false
Edit Fields Info: null
Ownership Based AccessControl For Rasters: null
Child Resources:
Info
Histograms
Statistics
Key Properties
Legend
Raster Function Infos
Supported Operations:
Export Image
Identify
Measure
Compute Histograms
Compute Statistics Histograms
Get Samples
Compute Class Statistics
Query Boundary
Compute Pixel Location
Compute Angles
Validate
Project