View In:
ArcGIS JavaScript
ArcGIS Online Map Viewer
ArcGIS Earth
Service Description: Subdivision/Talla_Point_phase_1_south_jpg
Name: Subdivision/Talla_Point_phase_1_south_jpg
Description:
Single Fused Map Cache: false
Extent:
XMin: 992368.3467945012
YMin: 339404.1607625291
XMax: 994527.8485402601
YMax: 341073.56342323887
Spatial Reference: 102694
(2254)
LatestVCSWkid(0)
Initial Extent:
XMin: 992368.3467945012
YMin: 339404.1607625291
XMax: 994527.8485402601
YMax: 341073.56342323887
Spatial Reference: 102694
(2254)
LatestVCSWkid(0)
Full Extent:
XMin: 992368.3467945012
YMin: 339404.1607625291
XMax: 994527.8485402601
YMax: 341073.56342323887
Spatial Reference: 102694
(2254)
LatestVCSWkid(0)
Pixel Size X: 1.2702951445640749
Pixel Size Y: 0.7588193912317035
Band Count: 3
Pixel Type: U8
RasterFunction Infos: {"rasterFunctionInfos": [{
"name": "None",
"description": "",
"help": ""
}]}
Mensuration Capabilities: Basic
Inspection Capabilities:
Has Histograms: true
Has Colormap: false
Has Multi Dimensions : false
Rendering Rule:
Min Scale: 0
Max Scale: 0
Copyright Text:
Service Data Type: esriImageServiceDataTypeRGB
Min Values: 0, 0, 0
Max Values: 255, 255, 255
Mean Values: 236.53936951873, 236.99999999999, 236.45986791443
Standard Deviation Values: 57.112698062253, 57.840638785062, 58.016296162393
Object ID Field:
Fields:
None
Default Mosaic Method: Center
Allowed Mosaic Methods:
SortField:
SortValue: null
Mosaic Operator: First
Default Compression Quality: 75
Default Resampling Method: Bilinear
Max Record Count: null
Max Image Height: 4100
Max Image Width: 15000
Max Download Image Count: null
Max Mosaic Image Count: null
Allow Raster Function: true
Allow Copy: true
Allow Analysis: true
Allow Compute TiePoints: false
Supports Statistics: false
Supports Advanced Queries: false
Use StandardizedQueries: true
Raster Type Infos:
Name: Raster Dataset
Description: Supports all ArcGIS Raster Datasets
Help:
Has Raster Attribute Table: false
Edit Fields Info: null
Ownership Based AccessControl For Rasters: null
Child Resources:
Info
Histograms
Statistics
Key Properties
Legend
Raster Function Infos
Supported Operations:
Export Image
Identify
Measure
Compute Histograms
Compute Statistics Histograms
Get Samples
Compute Class Statistics
Query Boundary
Compute Pixel Location
Compute Angles
Validate
Project