View In:
ArcGIS JavaScript
ArcGIS Online Map Viewer
ArcGIS Earth
Service Description: Subdivision/Talla_point_ph1_north_jpg
Name: Subdivision/Talla_point_ph1_north_jpg
Description:
Single Fused Map Cache: false
Extent:
XMin: 991721.9254756267
YMin: 339950.14991146355
XMax: 993398.5242277326
YMax: 342117.70298279467
Spatial Reference: 102694
(2254)
LatestVCSWkid(0)
Initial Extent:
XMin: 991721.9254756267
YMin: 339950.14991146355
XMax: 993398.5242277326
YMax: 342117.70298279467
Spatial Reference: 102694
(2254)
LatestVCSWkid(0)
Full Extent:
XMin: 991721.9254756267
YMin: 339950.14991146355
XMax: 993398.5242277326
YMax: 342117.70298279467
Spatial Reference: 102694
(2254)
LatestVCSWkid(0)
Pixel Size X: 0.7620903418662915
Pixel Size Y: 1.2750312184300685
Band Count: 3
Pixel Type: U8
RasterFunction Infos: {"rasterFunctionInfos": [{
"name": "None",
"description": "",
"help": ""
}]}
Mensuration Capabilities: Basic
Inspection Capabilities:
Has Histograms: true
Has Colormap: false
Has Multi Dimensions : false
Rendering Rule:
Min Scale: 0
Max Scale: 0
Copyright Text:
Service Data Type: esriImageServiceDataTypeRGB
Min Values: 0, 0, 0
Max Values: 255, 255, 255
Mean Values: 238.90069812834, 239.59256791443, 239.34237085561
Standard Deviation Values: 50.44410466232, 49.911086392191, 49.725478542907
Object ID Field:
Fields:
None
Default Mosaic Method: Center
Allowed Mosaic Methods:
SortField:
SortValue: null
Mosaic Operator: First
Default Compression Quality: 75
Default Resampling Method: Bilinear
Max Record Count: null
Max Image Height: 4100
Max Image Width: 15000
Max Download Image Count: null
Max Mosaic Image Count: null
Allow Raster Function: true
Allow Copy: true
Allow Analysis: true
Allow Compute TiePoints: false
Supports Statistics: false
Supports Advanced Queries: false
Use StandardizedQueries: true
Raster Type Infos:
Name: Raster Dataset
Description: Supports all ArcGIS Raster Datasets
Help:
Has Raster Attribute Table: false
Edit Fields Info: null
Ownership Based AccessControl For Rasters: null
Child Resources:
Info
Histograms
Statistics
Key Properties
Legend
Raster Function Infos
Supported Operations:
Export Image
Identify
Measure
Compute Histograms
Compute Statistics Histograms
Get Samples
Compute Class Statistics
Query Boundary
Compute Pixel Location
Compute Angles
Validate
Project