View In:
ArcGIS JavaScript
ArcGIS Online Map Viewer
ArcGIS Earth
Service Description: Subdivision/Tucker_Grove_Subdivision_jpg
Name: Subdivision/Tucker_Grove_Subdivision_jpg
Description:
Single Fused Map Cache: false
Extent:
XMin: 977420.6125784133
YMin: 357216.80105466134
XMax: 979593.0605649003
YMax: 358363.6865125139
Spatial Reference: 102694
(2254)
LatestVCSWkid(0)
Initial Extent:
XMin: 977420.6125784133
YMin: 357216.80105466134
XMax: 979593.0605649003
YMax: 358363.6865125139
Spatial Reference: 102694
(2254)
LatestVCSWkid(0)
Full Extent:
XMin: 977420.6125784133
YMin: 357216.80105466134
XMax: 979593.0605649003
YMax: 358363.6865125139
Spatial Reference: 102694
(2254)
LatestVCSWkid(0)
Pixel Size X: 0.3017288870120764
Pixel Size Y: 0.2389344703859509
Band Count: 3
Pixel Type: U8
RasterFunction Infos: {"rasterFunctionInfos": [{
"name": "None",
"description": "",
"help": ""
}]}
Mensuration Capabilities: Basic
Inspection Capabilities:
Has Histograms: true
Has Colormap: false
Has Multi Dimensions : false
Rendering Rule:
Min Scale: 0
Max Scale: 0
Copyright Text:
Service Data Type: esriImageServiceDataTypeRGB
Min Values: 0, 0, 0
Max Values: 255, 255, 255
Mean Values: 245.82063718175, 245.73260847805, 245.73093463539
Standard Deviation Values: 46.007253144206, 46.252872721606, 46.241685820399
Object ID Field:
Fields:
None
Default Mosaic Method: Center
Allowed Mosaic Methods:
SortField:
SortValue: null
Mosaic Operator: First
Default Compression Quality: 75
Default Resampling Method: Bilinear
Max Record Count: null
Max Image Height: 4100
Max Image Width: 15000
Max Download Image Count: null
Max Mosaic Image Count: null
Allow Raster Function: true
Allow Copy: true
Allow Analysis: true
Allow Compute TiePoints: false
Supports Statistics: false
Supports Advanced Queries: false
Use StandardizedQueries: true
Raster Type Infos:
Name: Raster Dataset
Description: Supports all ArcGIS Raster Datasets
Help:
Has Raster Attribute Table: false
Edit Fields Info: null
Ownership Based AccessControl For Rasters: null
Child Resources:
Info
Histograms
Statistics
Key Properties
Legend
Raster Function Infos
Supported Operations:
Export Image
Identify
Measure
Compute Histograms
Compute Statistics Histograms
Get Samples
Compute Class Statistics
Query Boundary
Compute Pixel Location
Compute Angles
Validate
Project