View In:
ArcGIS JavaScript
ArcGIS Online Map Viewer
ArcGIS Earth
Service Description: Subdivision/Jackson_Place_West_Part_1_jpg
Name: Subdivision/Jackson_Place_West_Part_1_jpg
Description:
Single Fused Map Cache: false
Extent:
XMin: 983611.9862549312
YMin: 345537.48587204167
XMax: 985785.5006372969
YMax: 347237.9770567897
Spatial Reference: 102694
(2254)
LatestVCSWkid(0)
Initial Extent:
XMin: 983611.9862549312
YMin: 345537.48587204167
XMax: 985785.5006372969
YMax: 347237.9770567897
Spatial Reference: 102694
(2254)
LatestVCSWkid(0)
Full Extent:
XMin: 983611.9862549312
YMin: 345537.48587204167
XMax: 985785.5006372969
YMax: 347237.9770567897
Spatial Reference: 102694
(2254)
LatestVCSWkid(0)
Pixel Size X: 0.987961082893519
Pixel Size Y: 1.0002889322047122
Band Count: 1
Pixel Type: U8
RasterFunction Infos: {"rasterFunctionInfos": [{
"name": "None",
"description": "",
"help": ""
}]}
Mensuration Capabilities: Basic
Inspection Capabilities:
Has Histograms: true
Has Colormap: false
Has Multi Dimensions : false
Rendering Rule:
Min Scale: 0
Max Scale: 0
Copyright Text:
Service Data Type: esriImageServiceDataTypeGeneric
Min Values: 0
Max Values: 255
Mean Values: 226.68526229946
Standard Deviation Values: 75.995593231028
Object ID Field:
Fields:
None
Default Mosaic Method: Center
Allowed Mosaic Methods:
SortField:
SortValue: null
Mosaic Operator: First
Default Compression Quality: 75
Default Resampling Method: Bilinear
Max Record Count: null
Max Image Height: 4100
Max Image Width: 15000
Max Download Image Count: null
Max Mosaic Image Count: null
Allow Raster Function: true
Allow Copy: true
Allow Analysis: true
Allow Compute TiePoints: false
Supports Statistics: false
Supports Advanced Queries: false
Use StandardizedQueries: true
Raster Type Infos:
Name: Raster Dataset
Description: Supports all ArcGIS Raster Datasets
Help:
Has Raster Attribute Table: false
Edit Fields Info: null
Ownership Based AccessControl For Rasters: null
Child Resources:
Info
Histograms
Statistics
Key Properties
Legend
Raster Function Infos
Supported Operations:
Export Image
Identify
Measure
Compute Histograms
Compute Statistics Histograms
Get Samples
Compute Class Statistics
Query Boundary
Compute Pixel Location
Compute Angles
Validate
Project