View In:
ArcGIS JavaScript
ArcGIS Online Map Viewer
ArcGIS Earth
Service Description: Subdivision/PARVIEW_ESTATES_PH_2___ASBUILT_jpg
Name: Subdivision/PARVIEW_ESTATES_PH_2___ASBUILT_jpg
Description:
Single Fused Map Cache: false
Extent:
XMin: 973859.6862807071
YMin: 350423.8005870115
XMax: 975807.5073190585
YMax: 353306.96399525175
Spatial Reference: 102694
(2254)
LatestVCSWkid(0)
Initial Extent:
XMin: 973859.6862807071
YMin: 350423.8005870115
XMax: 975807.5073190585
YMax: 353306.96399525175
Spatial Reference: 102694
(2254)
LatestVCSWkid(0)
Full Extent:
XMin: 973859.6862807071
YMin: 350423.8005870115
XMax: 975807.5073190585
YMax: 353306.96399525175
Spatial Reference: 102694
(2254)
LatestVCSWkid(0)
Pixel Size X: 0.4057960496565405
Pixel Size Y: 0.4004393622555896
Band Count: 3
Pixel Type: U8
RasterFunction Infos: {"rasterFunctionInfos": [{
"name": "None",
"description": "",
"help": ""
}]}
Mensuration Capabilities: Basic
Inspection Capabilities:
Has Histograms: true
Has Colormap: false
Has Multi Dimensions : false
Rendering Rule:
Min Scale: 0
Max Scale: 0
Copyright Text:
Service Data Type: esriImageServiceDataTypeRGB
Min Values: 0, 0, 0
Max Values: 255, 255, 255
Mean Values: 237.15971241319, 237.53383972802, 237.56984236113
Standard Deviation Values: 59.762522013289, 59.156937841068, 59.050161767013
Object ID Field:
Fields:
None
Default Mosaic Method: Center
Allowed Mosaic Methods:
SortField:
SortValue: null
Mosaic Operator: First
Default Compression Quality: 75
Default Resampling Method: Bilinear
Max Record Count: null
Max Image Height: 4100
Max Image Width: 15000
Max Download Image Count: null
Max Mosaic Image Count: null
Allow Raster Function: true
Allow Copy: true
Allow Analysis: true
Allow Compute TiePoints: false
Supports Statistics: false
Supports Advanced Queries: false
Use StandardizedQueries: true
Raster Type Infos:
Name: Raster Dataset
Description: Supports all ArcGIS Raster Datasets
Help:
Has Raster Attribute Table: false
Edit Fields Info: null
Ownership Based AccessControl For Rasters: null
Child Resources:
Info
Histograms
Statistics
Key Properties
Legend
Raster Function Infos
Supported Operations:
Export Image
Identify
Measure
Compute Histograms
Compute Statistics Histograms
Get Samples
Compute Class Statistics
Query Boundary
Compute Pixel Location
Compute Angles
Validate
Project