View In:
ArcGIS JavaScript
ArcGIS Online Map Viewer
ArcGIS Earth
Service Description: Subdivision/Savannah_Trails_Ph_2A_Preliminary_jpg
Name: Subdivision/Savannah_Trails_Ph_2A_Preliminary_jpg
Description:
Single Fused Map Cache: false
Extent:
XMin: 990080.3307051054
YMin: 341990.54832888494
XMax: 992295.3471228258
YMax: 343684.3312804168
Spatial Reference: 102694
(2254)
LatestVCSWkid(0)
Initial Extent:
XMin: 990080.3307051054
YMin: 341990.54832888494
XMax: 992295.3471228258
YMax: 343684.3312804168
Spatial Reference: 102694
(2254)
LatestVCSWkid(0)
Full Extent:
XMin: 990080.3307051054
YMin: 341990.54832888494
XMax: 992295.3471228258
YMax: 343684.3312804168
Spatial Reference: 102694
(2254)
LatestVCSWkid(0)
Pixel Size X: 1.0068256444183432
Pixel Size Y: 0.996342912665808
Band Count: 3
Pixel Type: U8
RasterFunction Infos: {"rasterFunctionInfos": [{
"name": "None",
"description": "",
"help": ""
}]}
Mensuration Capabilities: Basic
Inspection Capabilities:
Has Histograms: true
Has Colormap: false
Has Multi Dimensions : false
Rendering Rule:
Min Scale: 0
Max Scale: 0
Copyright Text:
Service Data Type: esriImageServiceDataTypeRGB
Min Values: 0, 0, 0
Max Values: 255, 255, 255
Mean Values: 239.32420294118, 239.20426844919, 239.24680026738
Standard Deviation Values: 54.308584445159, 54.667500558601, 54.55047594837
Object ID Field:
Fields:
None
Default Mosaic Method: Center
Allowed Mosaic Methods:
SortField:
SortValue: null
Mosaic Operator: First
Default Compression Quality: 75
Default Resampling Method: Bilinear
Max Record Count: null
Max Image Height: 4100
Max Image Width: 15000
Max Download Image Count: null
Max Mosaic Image Count: null
Allow Raster Function: true
Allow Copy: true
Allow Analysis: true
Allow Compute TiePoints: false
Supports Statistics: false
Supports Advanced Queries: false
Use StandardizedQueries: true
Raster Type Infos:
Name: Raster Dataset
Description: Supports all ArcGIS Raster Datasets
Help:
Has Raster Attribute Table: false
Edit Fields Info: null
Ownership Based AccessControl For Rasters: null
Child Resources:
Info
Histograms
Statistics
Key Properties
Legend
Raster Function Infos
Supported Operations:
Export Image
Identify
Measure
Compute Histograms
Compute Statistics Histograms
Get Samples
Compute Class Statistics
Query Boundary
Compute Pixel Location
Compute Angles
Validate
Project