View In:
ArcGIS JavaScript
ArcGIS Online Map Viewer
ArcGIS Earth
Service Description: Subdivision/Savannah_Trails_jpg
Name: Subdivision/Savannah_Trails_jpg
Description:
Single Fused Map Cache: false
Extent:
XMin: 986907.6276639464
YMin: 341185.51756673254
XMax: 990465.55722643
YMax: 343588.51548299537
Spatial Reference: 102694
(2254)
LatestVCSWkid(0)
Initial Extent:
XMin: 986907.6276639464
YMin: 341185.51756673254
XMax: 990465.55722643
YMax: 343588.51548299537
Spatial Reference: 102694
(2254)
LatestVCSWkid(0)
Full Extent:
XMin: 986907.6276639464
YMin: 341185.51756673254
XMax: 990465.55722643
YMax: 343588.51548299537
Spatial Reference: 102694
(2254)
LatestVCSWkid(0)
Pixel Size X: 0.4941568836782891
Pixel Size Y: 0.5006245658880896
Band Count: 3
Pixel Type: U8
RasterFunction Infos: {"rasterFunctionInfos": [{
"name": "None",
"description": "",
"help": ""
}]}
Mensuration Capabilities: Basic
Inspection Capabilities:
Has Histograms: true
Has Colormap: false
Has Multi Dimensions : false
Rendering Rule:
Min Scale: 0
Max Scale: 0
Copyright Text:
Service Data Type: esriImageServiceDataTypeRGB
Min Values: 0, 0, 0
Max Values: 255, 255, 255
Mean Values: 237.12003208915, 236.9609981771, 237.011704022
Standard Deviation Values: 59.030421390819, 59.47375250593, 59.349833618607
Object ID Field:
Fields:
None
Default Mosaic Method: Center
Allowed Mosaic Methods:
SortField:
SortValue: null
Mosaic Operator: First
Default Compression Quality: 75
Default Resampling Method: Bilinear
Max Record Count: null
Max Image Height: 4100
Max Image Width: 15000
Max Download Image Count: null
Max Mosaic Image Count: null
Allow Raster Function: true
Allow Copy: true
Allow Analysis: true
Allow Compute TiePoints: false
Supports Statistics: false
Supports Advanced Queries: false
Use StandardizedQueries: true
Raster Type Infos:
Name: Raster Dataset
Description: Supports all ArcGIS Raster Datasets
Help:
Has Raster Attribute Table: false
Edit Fields Info: null
Ownership Based AccessControl For Rasters: null
Child Resources:
Info
Histograms
Statistics
Key Properties
Legend
Raster Function Infos
Supported Operations:
Export Image
Identify
Measure
Compute Histograms
Compute Statistics Histograms
Get Samples
Compute Class Statistics
Query Boundary
Compute Pixel Location
Compute Angles
Validate
Project