View In:
ArcGIS JavaScript
ArcGIS Online Map Viewer
ArcGIS Earth
Service Description: Subdivision/alexis_crossing_jpg
Name: Subdivision/alexis_crossing_jpg
Description:
Single Fused Map Cache: false
Extent:
XMin: 992088.6616377819
YMin: 342551.73434773204
XMax: 993924.1040800662
YMax: 343857.9204723512
Spatial Reference: 102694
(2254)
LatestVCSWkid(0)
Initial Extent:
XMin: 992088.6616377819
YMin: 342551.73434773204
XMax: 993924.1040800662
YMax: 343857.9204723512
Spatial Reference: 102694
(2254)
LatestVCSWkid(0)
Full Extent:
XMin: 992088.6616377819
YMin: 342551.73434773204
XMax: 993924.1040800662
YMax: 343857.9204723512
Spatial Reference: 102694
(2254)
LatestVCSWkid(0)
Pixel Size X: 0.3399597040719235
Pixel Size Y: 0.362527372916779
Band Count: 3
Pixel Type: U8
RasterFunction Infos: {"rasterFunctionInfos": [{
"name": "None",
"description": "",
"help": ""
}]}
Mensuration Capabilities: Basic
Inspection Capabilities:
Has Histograms: true
Has Colormap: false
Has Multi Dimensions : false
Rendering Rule:
Min Scale: 0
Max Scale: 0
Copyright Text:
Service Data Type: esriImageServiceDataTypeRGB
Min Values: 0, 0, 0
Max Values: 255, 255, 255
Mean Values: 238.48345642486, 248.38694242215, 238.37736174763
Standard Deviation Values: 38.703868123889, 33.29977897641, 38.824380552111
Object ID Field:
Fields:
None
Default Mosaic Method: Center
Allowed Mosaic Methods:
SortField:
SortValue: null
Mosaic Operator: First
Default Compression Quality: 75
Default Resampling Method: Bilinear
Max Record Count: null
Max Image Height: 4100
Max Image Width: 15000
Max Download Image Count: null
Max Mosaic Image Count: null
Allow Raster Function: true
Allow Copy: true
Allow Analysis: true
Allow Compute TiePoints: false
Supports Statistics: false
Supports Advanced Queries: false
Use StandardizedQueries: true
Raster Type Infos:
Name: Raster Dataset
Description: Supports all ArcGIS Raster Datasets
Help:
Has Raster Attribute Table: false
Edit Fields Info: null
Ownership Based AccessControl For Rasters: null
Child Resources:
Info
Histograms
Statistics
Key Properties
Legend
Raster Function Infos
Supported Operations:
Export Image
Identify
Measure
Compute Histograms
Compute Statistics Histograms
Get Samples
Compute Class Statistics
Query Boundary
Compute Pixel Location
Compute Angles
Validate
Project